BEGIN:VCALENDAR
VERSION:2.0
PRODID:icalendar-ruby
CALSCALE:GREGORIAN
METHOD:PUBLISH
BEGIN:VEVENT
DTSTAMP:20260420T093658Z
UID:5-398847@newlifecommunitywesleyan.org
DTSTART:20261025T170000Z
DTEND:20261025T180000Z
CLASS:PUBLIC
CREATED:20260419T233441
DESCRIPTION:Sunday Worship
LAST-MODIFIED:20260419T233441
LOCATION:
SUMMARY:Sunday Worship
URL;VALUE=URI:https://www.newlifecommunitywesleyan.org/events/sunday-worshi
 p/2026-10-25
END:VEVENT
END:VCALENDAR
