BEGIN:VCALENDAR
VERSION:2.0
PRODID:icalendar-ruby
CALSCALE:GREGORIAN
METHOD:PUBLISH
BEGIN:VEVENT
DTSTAMP:20260420T041024Z
UID:5-398582@newlifecommunitywesleyan.org
DTSTART:20260927T170000Z
DTEND:20260927T180000Z
CLASS:PUBLIC
CREATED:20260419T195748
DESCRIPTION:Sunday Worship
LAST-MODIFIED:20260419T195748
LOCATION:
SUMMARY:Sunday Worship
URL;VALUE=URI:https://www.newlifecommunitywesleyan.org/events/sunday-worshi
 p/2026-09-27
END:VEVENT
END:VCALENDAR
