BEGIN:VCALENDAR
VERSION:2.0
PRODID:icalendar-ruby
CALSCALE:GREGORIAN
METHOD:PUBLISH
BEGIN:VEVENT
DTSTAMP:20260419T231442Z
UID:5-398057@newlifecommunitywesleyan.org
DTSTART:20260906T170000Z
DTEND:20260906T180000Z
CLASS:PUBLIC
CREATED:20260419T123618
DESCRIPTION:Sunday Worship
LAST-MODIFIED:20260419T123618
LOCATION:
SUMMARY:Sunday Worship
URL;VALUE=URI:https://www.newlifecommunitywesleyan.org/events/sunday-worshi
 p/2026-09-06
END:VEVENT
END:VCALENDAR
